BEGIN:VCALENDAR
VERSION:2.0
PRODID:-//GIH Bundesverband - ECPv6.15.20//NONSGML v1.0//EN
CALSCALE:GREGORIAN
METHOD:PUBLISH
X-ORIGINAL-URL:https://www.gih.de
X-WR-CALDESC:Veranstaltungen für GIH Bundesverband
REFRESH-INTERVAL;VALUE=DURATION:PT1H
X-Robots-Tag:noindex
X-PUBLISHED-TTL:PT1H
BEGIN:VTIMEZONE
TZID:Europe/Berlin
BEGIN:DAYLIGHT
TZOFFSETFROM:+0100
TZOFFSETTO:+0200
TZNAME:CEST
DTSTART:20250330T010000
END:DAYLIGHT
BEGIN:STANDARD
TZOFFSETFROM:+0200
TZOFFSETTO:+0100
TZNAME:CET
DTSTART:20251026T010000
END:STANDARD
BEGIN:DAYLIGHT
TZOFFSETFROM:+0100
TZOFFSETTO:+0200
TZNAME:CEST
DTSTART:20260329T010000
END:DAYLIGHT
BEGIN:STANDARD
TZOFFSETFROM:+0200
TZOFFSETTO:+0100
TZNAME:CET
DTSTART:20261025T010000
END:STANDARD
BEGIN:DAYLIGHT
TZOFFSETFROM:+0100
TZOFFSETTO:+0200
TZNAME:CEST
DTSTART:20270328T010000
END:DAYLIGHT
BEGIN:STANDARD
TZOFFSETFROM:+0200
TZOFFSETTO:+0100
TZNAME:CET
DTSTART:20271031T010000
END:STANDARD
END:VTIMEZONE
BEGIN:VEVENT
DTSTART;TZID=Europe/Berlin:20260424T170000
DTEND;TZID=Europe/Berlin:20260424T190000
DTSTAMP:20260425T124946
CREATED:20250811T151713Z
LAST-MODIFIED:20260423T231711Z
UID:11052-1777050000-1777057200@www.gih.de
SUMMARY:Mitgliederversammlung Gebäudeenergieberater in Hessen e.V.
DESCRIPTION:  \nEinladung zur ordentlichen Mitgliederversammlung 2026 \n  \nDer Vorstand des GIH-Hessen e.V. lädt alle Vereinsmitglieder zur nächsten ordentlichen Mitgliederversammlung ein. \nDiese findet am Freitag\, den 24. April 2026 um 17.00 Uhr im Hotel „Zur Schmiede“ (Ziegenhainer Str. 26\, 36304 Alsfeld) statt. \nDer Vorstand weist darauf hin\, dass Anträge zur Mitgliederversammlung bis spätestens 3 Tage vor der Versammlung schriftlich (per Brief oder E-Mail an info@gih-hessen.de oder geschaeftsstelle@gih-hessen.de) eingegangen sein müssen. \nVorläufige Tagesordnung: \n\nEröffnung und Begrüßung\nGenehmigung der Tagesordnung und evtl. Änderungsanträge\nMitgliederehrungen für 10- und 20-jährige Vereinsmitgliedschaften\nJahresbericht des Vorstands:\n\nBerichte der Vorsitzenden und Vorstände\nAussprache\n\nKassen- und Finanzbericht (mit Abschluss zum 31.12.2025):\n\nBericht der Schatzmeisterinnen (Vorstände Finanzen)\nBericht der Kassenprüfer (Revisoren)\nAussprache\n\nEntlastung des Vorstands\nSatzungsgemäße Neuwahlen des Vorstands und der Kassenprüfer\nAnträge\nAktuelle Informationen / Verschiedenes\n\nWir freuen uns über eine zahlreiche Teilnahme! \n  \n  \n PDF-Dokument
URL:https://www.gih.de/veranstaltung/save-the-date-mitgliederversammlung-gebaeudeenergieberater-in-hessen-e-v/
LOCATION:36304 Alsfeld (Eudorf)\, Ziegenhainer Str. 26\, Hotel Zur Schmiede
CATEGORIES:veranstaltungen-bundesverband,veranstaltungen-hessen
END:VEVENT
BEGIN:VEVENT
DTSTART;TZID=Europe/Berlin:20260424T150000
DTEND;TZID=Europe/Berlin:20260424T153000
DTSTAMP:20260425T124946
CREATED:20250725T091833Z
LAST-MODIFIED:20250905T111840Z
UID:8591-1777042800-1777044600@www.gih.de
SUMMARY:Externe Veranstaltung: Energieberater:innen-Zirkel der Energielotsen
DESCRIPTION:https://www.hamburg.de/politik-und-verwaltung/behoerden/bukea/themen/energie/energielotsen/2021-energieberater-zirkel-291106
URL:https://www.gih.de/veranstaltung/externe-veranstaltung-energieberaterinnen-zirkel-der-energielotsen-39/
LOCATION:Online
CATEGORIES:veranstaltungen-nord
END:VEVENT
BEGIN:VEVENT
DTSTART;TZID=Europe/Berlin:20260424T110000
DTEND;TZID=Europe/Berlin:20260424T150000
DTSTAMP:20260425T124946
CREATED:20260305T114133Z
LAST-MODIFIED:20260423T235902Z
UID:41085-1777028400-1777042800@www.gih.de
SUMMARY:Energiesprong on tour: Serielles Sanieren live erleben
DESCRIPTION:Am Freitag\, 24. April 2026 laden Holzbau Göser und das dena-Energiesprong-Team herzlich nach Rechberghausen ein. Erleben Sie vor Ort\, wie die serielle Sanierung nach dem Energiesprong-Prinzip bei einem Eigenheim umgesetzt wird — mit Baustellenbesichtigung und exklusiver Werksführung. \n Beim seriellen Sanieren werden Bestandsgebäude mit industriell vorgefertigten Elementen schnell\, planbar und klimafreundlich modernisiert. Das Energiesprong-Prinzip steht dabei für eine ganzheitliche Sanierung in kurzer Zeit — hin zu energieeffizienten\, komfortablen und zukunftsfähigen Gebäuden. \n  \nProgramm \nExklusiv für Energieberatende\, Planende & Beratende:  \n11:00 Uhr – Einführung in das serielle Sanieren für Planung & Beratung \nWie genau funktioniert das serielle Sanieren in Planung und Beratung? Impuls und Diskussion zur Rolle der Energieberatung bei seriellen Sanierungsprojekten \n12:00 Uhr — Gemeinsames Mittagessen Nutzen Sie die Gelegenheit zum Kennenlernen\, Austausch und zur Vernetzung in entspannter Atmosphäre. \n12:45 Uhr — Einführung in das serielle Sanieren  Erfahren Sie aus erster Hand\, wie serielles Sanieren funktioniert und welche Chancen diese Methode speziell für Eigenheime bietet. Impulse und Einblicke vom Energiesprong-Team sowie von Holzbau Göser\, die das Projekt in Rechberghausen umsetzen. \n13:15 Uhr — Werksführung Blicken Sie hinter die Kulissen der Produktion: Sehen Sie\, wie vorgefertigte Fassaden- und Dachelemente in der Werkshalle von Holzbau Göser entstehen. \n13:45 / 14:00 Uhr — Baustellentour Im Anschluss besuchen wir gemeinsam die Baustelle. Nach einem etwa 10-minütigen Fußmarsch erleben Sie vor Ort\, wie aus einem bestehenden Zweifamilienhaus ein modernes Dreifamilienhaus entsteht und wie die vorgefertigten Elemente am Gebäude montiert werden. \nab 15:00 Uhr — Ausklang bei Kaffee & Kuchen Lassen Sie den Nachmittag bei Kaffee und Kuchen gemütlich ausklingen\, tauschen Sie sich mit den Projektbeteiligten aus und nehmen Sie wertvolle Impulse für Ihr eigenes Projekt mit. \n  \nAnreise & Shuttle \nParkplätze sind vor dem Werk vorhanden. Bei Anreise per Bahn wird auf Wunsch ein Shuttle vom Bahnhof Göppingen um 11:45 Uhr zur Veranstaltung und zurück angeboten.  \n  \nAnmeldung hier
URL:https://www.gih.de/veranstaltung/energiesprong-on-tour-serielles-sanieren-live-erleben/
LOCATION:Kirchheim unter Teck
CATEGORIES:veranstaltungen-baden-wuerttemberg,veranstaltungen-bundesverband
END:VEVENT
BEGIN:VEVENT
DTSTART;TZID=Europe/Berlin:20260424T090000
DTEND;TZID=Europe/Berlin:20260424T163000
DTSTAMP:20260425T124946
CREATED:20260225T191703Z
LAST-MODIFIED:20260423T231711Z
UID:40144-1777021200-1777048200@www.gih.de
SUMMARY:Fortbildungsveranstaltung des GIH Hessen e.V. (Gebäudeenergieberater in Hessen) im Rahmen der Wissenswerkstatt als Präsenzveranstaltung\, 2.Tag:  Themen aus der Gebäudetechnik
DESCRIPTION:Freitag\, 24.04.2026 \nThemen aus der Gebäudetechnik \nHierzu werden bei der DENA 8 Unterrichtseinheiten (UE) beantragt \n  \n\n\n\n\nvon \n\n\nBis \n\n\nThema \n\n\nUE \n\n\n\n\n09.00 \n\n\n10.30 \n\n\nWärmepumpen \nAustausch Etagenheizung gegen Etagenwärmepumpen \nModernisierungslösungen im EFH und MFH (Kaskade / Hybrid)  \nDigitale  Themen\, praxisorientiert :  Effiziente Einbindung von PV Anlagen\, Dynamische Stromtarife\, §14a EnWG \nReferent: Herr Liebel\, NIBE  \n  \n\n\n2 \n\n\n\n\n10.30 \n\n\n10.45 \n\n\nKaffeepause \n\n\n  \n\n\n\n\n10:45 \n\n\n12:15 \n\n\nPhotovoltaisch – thermischer Sonnenkollektor \nPVT-Systeme mit Speichertechnik\, Einbindung Wärmepumpen \nReferent: Herr Stoffer\, Consolar Solare Energiesysteme GmbH \n  \n\n\n2 \n\n\n\n\n12.15 \n\n\n13.15 \n\n\nMittagspause \n\n\n  \n\n\n\n\n13.15 \n\n\n14.45 \n\n\nAutomatischer hydr. Abgleich\, Smart-Home \nReferent: Herr Plogmann\, eQ-3 AG / Homematic \n  \n\n\n2 \n\n\n\n\n14.45 \n\n\n15.00 \n\n\nKaffeepause \n\n\n  \n\n\n\n\n15.00 \n\n\n16.30 \n\n\nFrischluftAIRkenntnisse – Theorie und Praxis \nWohnraumlüftung \nReferent: Herr Kreten\, Pluggit \n  \n\n\n2 \n\n\n\n\n16.30 \n\n\n  \n\n\nEnde bzw. Mitgliederversammlung GIH Hessen e.V. (Jahreshauptversammlung) im Anschluss \n  \n\n\n  \n\n\n\n\nBeachtet auch den 1. Tag: Fortbildungsveranstaltung des GIH Hessen e.V. (Gebäudeenergieberater in Hessen) im Rahmen der „Wissenswerkstatt“ als Präsenzveranstaltung\, 1.Tag: Gebäudehülle\, Technische Anforderungen \n  \nWichtig: Jeder Teilnehmer ist für die Zimmerbuchung selbst verantwortlich. Die Kosten sind nicht in der Anmeldung enthalten. \nEin Abendessen inkl. Getränke\, am Donnerstagabend\, 23.04. ist nicht in den Kosten von 280\,00 € (pro Tag) enthalten (Selbstzahler bei Teilnahme) \nZimmerreservierung: Zur Schmiede \n\n\n\nHotel · Restaurant in Alsfeld\n\n\n\n\n\n\nAdresseZiegenhainer Str. 2636304 Alsfeld \nTelefon: 06631 793830 \nEmail: info@zur-schmiede.de \n\n\n\n 
URL:https://www.gih.de/veranstaltung/fortbildungsveranstaltung-des-gih-hessen-e-v-gebaeudeenergieberater-in-hessen-im-rahmen-der-%c2%84wissenswerkstatt%c2%93-als-praesenzveranstaltung-2-tag-themen-aus-der-gebaeudetechnik/
LOCATION:36304 Alsfeld (Eudorf)\, Ziegenhainer Str. 26\, Hotel Zur Schmiede
CATEGORIES:veranstaltungen-bundesverband,veranstaltungen-hessen
END:VEVENT
BEGIN:VEVENT
DTSTART;TZID=Europe/Berlin:20260424T083000
DTEND;TZID=Europe/Berlin:20260424T153000
DTSTAMP:20260425T124946
CREATED:20260216T142203Z
LAST-MODIFIED:20260423T052203Z
UID:39360-1777019400-1777044600@www.gih.de
SUMMARY:Gesunder Innenausbau: Schadstoffarme Baumaterialien und wohngesunde Räume
DESCRIPTION:Setzen Sie Ihr baubiologisches Wissen sinnvoll im Neubau und der Sanierung ein!\nDer Nutzen im Überblick\nDer Innenausbau entscheidet maßgeblich darüber\, wie gesund ein Gebäude langfristig genutzt werden kann. Materialien\, Konstruktionen und bauphysikalische Zusammenhänge beeinflussen Raumluft\, Feuchteverhalten und Schadstoffbelastungen oft stärker\, als Bauende und Planende erwarten. \nDieses 8-UE-Seminar vermittelt fundiertes Grundlagenwissen zum gesunden Innenausbau** mit Fokus auf Innenraumschadstoffe\, Raumklima\, Bauphysik und Baustoffauswahl. Ziel ist es\, typische Risiken zu erkennen\, Materialien kritisch zu bewerten und Innenausbauten so zu planen oder zu begleiten\, dass unnötige Belastungen vermieden werden. \nDas Seminar ordnet gängige Begriffe und Produkte ein\, räumt mit verbreiteten Missverständnissen auf und zeigt\, wie wohngesunde Lösungen im Neubau wie auch in der Sanierung realistisch umgesetzt werden können. \nInhalte \n– Innenraumschadstoffe im Innenausbau: Arten\, Quellen und typische Problemstellen– Raumklima: Zusammenspiel von Luftqualität\, Feuchte und Temperatur– Feuchte\, Tauwasser und Schimmelrisiken im Innenausbau– Bauphysikalische Grundlagen für einen schadstoffarmen Ausbau– Wechselwirkungen zwischen Konstruktion\, Material und Nutzung– Kriterien für die Auswahl schadstoffarmer Baumaterialien– Praktische Tipps für die Auswahl von Baumaterialien– Zertifizierungen und Siegel – Natur- und konventionelle Baustoffe – sachlich eingeordnet– Typische Fehler im Innenausbau und ihre Folgen– Praxisnahe Ansätze für gesunden Neubau und Sanierung \nIhre Dozentin \nVita Dipl.-Ing. Ester Karl ist Bauingenieurin und Baubiologin IBN. Sie arbeitet seit einigen Jahren in der Bauherrenbildung und bietet praxisorientierte Kurse\, Bücher und Beratung rund um wohngesundes\, ökologisches und nachhaltiges Bauen und Sanieren an. Durch ihren Hintergrund in Bauingenieurwesen und ihre Spezialisierung auf Baubiologie vermittelt sie komplexe Inhalte anschaulich und interdisziplinär zwischen Technik\, Gesundheit und Umweltbewusstsein. \nZielgruppe\nDas Seminar richtet sich an alle Energieberatenden\, Architekt:innen\, Sanierungsbegleiter:innen und Planer:innen\, die ihr Fachwissen im Bereich Innenausbau erweitern möchten\, um Räume gesundheitlich sinnvoll\, schadstoffarm und bauphysikalisch durchdacht zu planen und umzusetzen. \nZertifikate bei Teilnahme\nTeilnahmezertifikat \nOrganisatorisches und Arbeitsmittel\nSkript und Arbeitsunterlagen werden gestellt. \nUnterrichtsform\nOnline über die BBB-Plattform / Präsenz: nein \nHinweis zur dena-Anerkennung\nBeantragte Unterrichtseinheiten für die Eintragung bzw. Verlängerung des Eintrags in der Energie-Effizienz-Expertenliste für Förderprogramme des Bundes für diese Veranstaltung: \n\nWohngebäude (WG): 7 Unterrichtseinheiten\nNichtwohngebäude (NWG): 7 Unterrichtseinheiten\nEnergieaudit DIN 16247/Contracting (BAFA): 7 Unterrichtseinheiten\n\nZur Verlängerung des Listeneintrages müssen alle drei Jahre insgesamt 24 Unterrichtseinheiten nachgewiesen werden. Weitere Informationen finden Sie hier. \n 
URL:https://www.gih.de/veranstaltung/gesunder-innenausbau-schadstoffarme-baumaterialien-und-wohngesunde-raeume/
LOCATION:Online-Schulung
CATEGORIES:veranstaltungen-bayern,veranstaltungen-bundesverband
END:VEVENT
BEGIN:VEVENT
DTSTART;TZID=Europe/Berlin:20260423T193000
DTEND;TZID=Europe/Berlin:20260423T220000
DTSTAMP:20260425T124946
CREATED:20260319T092052Z
LAST-MODIFIED:20260422T232051Z
UID:41717-1776972600-1776981600@www.gih.de
SUMMARY:Stammtisch (Regio-Treff) Düsseldorf
DESCRIPTION:Stammtisch (Regio-Treff) in Düsseldorf \nam 23.04.2026 \nvon 19:30-22:00 Uhr \nNetzwerken / Informieren / Austausch mit Kollegen*innen aus der Region \n-Zusätzliche Inhalte werden kurzfristig mitgeteilt \nVeranstaltungsort. \nMezzomar an der Classic Remise \nHarffstraße 110A \n40591 Düsseldorf \nwww.mezzomar.de \n0211/1592150 \nKontakt: \nClaudio Ortega Friedel \n0176 8229 3344
URL:https://www.gih.de/veranstaltung/stammtisch-regio-treff-duesseldorf/
LOCATION:Mezzomar\, Harffstraße 110A\, 40591 Düsseldorf
CATEGORIES:veranstaltungen-bundesverband,veranstaltungen-nordrhein-westfalen
END:VEVENT
BEGIN:VEVENT
DTSTART;TZID=Europe/Berlin:20260423T190000
DTEND;TZID=Europe/Berlin:20260423T190000
DTSTAMP:20260425T124946
CREATED:20260130T093234Z
LAST-MODIFIED:20260422T235924Z
UID:37155-1776970800-1776970800@www.gih.de
SUMMARY:PRÄSENZ Stammtisch Hohenlohe- zum Thema: Derzeitige Optionen bei Heizungstausch
DESCRIPTION:Hallo zusammen\, \nder Hohenloher Stammtisch diesmal zum Thema  \n  \nWann: ab 19:00 Uhr. \nWo: VereinsheimTSV Crailsheim \nAdresse: Schönebürgstraße 79\, 74564 Crailsheim \n  \n  \nWir freuen uns auf eine Vielzahl an Anmeldungen!
URL:https://www.gih.de/veranstaltung/praesenz-stammtisch-hohenlohe-zum-thema-2/
LOCATION:VereinsheimTSV Crailsheim\, Schönebürgstraße 79\, 74564 Crailsheim
CATEGORIES:veranstaltungen-baden-wuerttemberg,veranstaltungen-bundesverband
END:VEVENT
BEGIN:VEVENT
DTSTART;TZID=Europe/Berlin:20260423T180000
DTEND;TZID=Europe/Berlin:20260423T210000
DTSTAMP:20260425T124946
CREATED:20260304T132047Z
LAST-MODIFIED:20260422T232051Z
UID:41036-1776967200-1776978000@www.gih.de
SUMMARY:Stammtisch (Regio) Niederrhein/Münsterland Kreis Wesel / Kreis Borken / Kreis Kleve
DESCRIPTION:Energieberaterstammtisch für den Niederrhein / Münsterland \nKreis Wesel / Kreis Borken / Kreis Kleve \nNetzwerken / Infos (ggf. aus der Region)  \nTeilnahme kostenlos \nGetränke und Mahlzeiten sind durch die Teilnehmenden selbst zu übernehmen \nHinweis: Betrachtet diese Einladung als ersten Testlauf. Selbstverständlich werden wir bei entsprechendem Interesse auch Stammtische bei Bedarf an wechselnden Standtorten westlichen NRW durchführen. Sprecht uns bei Fragen gerne an. \nVeranstaltungsort: \nGaststätte Küpper \nWeberstraße 21 \n46499 Hamminkeln-Dingden \nTel.: 02852/2114 \nwww.gasthof-kueppers.de \n  \n  \n 
URL:https://www.gih.de/veranstaltung/stammtisch-regio-niederrhein-muensterland-kreis-wesel-kreis-borken-kreis-kleve/
LOCATION:Gaststätte Küpper\, Weberstraße 21\, 46499 Hamminkeln-Dingden
CATEGORIES:veranstaltungen-bundesverband,veranstaltungen-nordrhein-westfalen
END:VEVENT
BEGIN:VEVENT
DTSTART;TZID=Europe/Berlin:20260423T143000
DTEND;TZID=Europe/Berlin:20260423T173000
DTSTAMP:20260425T124946
CREATED:20260310T132102Z
LAST-MODIFIED:20260422T232051Z
UID:41608-1776954600-1776965400@www.gih.de
SUMMARY:Wie die Dachmodernisierung gelingt
DESCRIPTION:Wir informieren Euch über eine Veranstaltung des FLIB (näheres siehe Flyer) \nDer GIH NRW ist Kooperationspartner \nUnser Mitglied Jan Krebs wird einen Vortrag halten \nVeranstaltungsort: \nHaus der Technik \nHollestraße 1 \n45127 Essen \nVeranstalter \nFachverband Luftdichtheit im Bauwesen e.V. \nStorkower Straße 158 \n10407 Berlin Tel.: +49 (0) 30 / 2903 563 \ninfo@flib.de  \nwww.flib.de  \nwww.luftdicht.info \nAnmeldung unter:myablefy.com/s/FLiB-e-V/workshop-2026-1 \n PDF-Dokument
URL:https://www.gih.de/veranstaltung/%c2%84wie-die-dachmodernisierung-gelingt%c2%93/
LOCATION:Haus der Technik\, Holestraße 1_45127 Essen
CATEGORIES:veranstaltungen-bundesverband,veranstaltungen-nordrhein-westfalen
END:VEVENT
BEGIN:VEVENT
DTSTART;TZID=Europe/Berlin:20260423T090000
DTEND;TZID=Europe/Berlin:20260423T163000
DTSTAMP:20260425T124946
CREATED:20260225T181702Z
LAST-MODIFIED:20260422T231710Z
UID:40136-1776934800-1776961800@www.gih.de
SUMMARY:Fortbildungsveranstaltung des GIH Hessen e.V. (Gebäudeenergieberater in Hessen) im Rahmen der Wissenswerkstatt als Präsenzveranstaltung\, 1.Tag: Gebäudehülle\, Technische Anforderungen
DESCRIPTION:Donnerstag\, 23.04.2026 \nThemen sind Gebäudehülle\, Technische Anforderungen \nHierzu werden bei der DENA 8 Unterrichtseinheiten (UE) beantragt \n  \n\n\n\n\nvon \n\n\nbis \n\n\nThema \n\n\nUE \n\n\n\n\n09.00 \n\n\n10.30 \n\n\nDämmstoffe\, Dämmsysteme\, deren Einsatzbereiche sowie Ausführungsdetails \nReferent: Herr Scheffler\, Linzmeier Bauelemente GmbH \n  \n\n\n2 \n\n\n\n\n10.30 \n\n\n10.45 \n\n\nKaffeepause \n\n\n  \n\n\n\n\n10:45 \n\n\n12:15 \n\n\nWärmebrücken Betrachtung\, Fallstricke\, Möglichkeiten / Anwendung im detaillierten Nachweisverfahren und vereinfachten Gleichwertigkeitsverfahren  \nReferent: Herr Schürmann-Weituschat\, DK Energieberatung eGbR  \n  \n\n\n2 \n\n\n\n\n12.15 \n\n\n13.15 \n\n\nMittagspause \n\n\n  \n\n\n\n\n13.15 \n\n\n14.00 \n\n\nWärmebrücken Betrachtung\, Fallstricke\, Möglichkeiten / Anwendung im detaillierten Nachweisverfahren und vereinfachten Gleichwertigkeitsverfahren  \nReferent: Herr Schürmann-Weituschat\, DK Energieberatung eGbR  \n  \n\n\n1 \n\n\n\n\n14:00 \n\n\n14:45 \n\n\nNeuigkeiten zur HBO und GEG\, Was könnte der Wegfall der Nachweisberichtigung zum Wärmeschutz für Energieberater bedeuten?   \nReferent: Herr Balz-Fiedler\, Ing.-Büro \n  \n\n\n1 \n\n\n\n\n14.45 \n\n\n15.00 \n\n\nKaffeepause \n\n\n  \n\n\n\n\n15.00 \n\n\n16.30 \n\n\nAusblick und Anwendung\, GEG und DIN 18599 \nReferent: Frau Keilbar Hottgenroth Software \n  \n\n\n2 \n\n\n\n\n16.30 \n\n\n  \n\n\nEnde  \n\n\n  \n\n\n\n\nBeachtet auch den 2. Tag: Fortbildungsveranstaltung des GIH Hessen e.V. (Gebäudeenergieberater in Hessen) im Rahmen der „Wissenswerkstatt“ als Präsenzveranstaltung\, 2.Tag: Themen aus der Gebäudetechnik  \n  \nWichtig: Jeder Teilnehmer ist für die Zimmerbuchung selbst verantwortlich. Die Kosten sind nicht in der Anmeldung enthalten. \nEin Abendessen inkl. Getränke\, am Donnerstagabend\, 23.04. ist nicht in den Kosten von 280\,00 € (pro Tag) enthalten (Selbstzahler bei Teilnahme) \nZimmerreservierung: Zur Schmiede \n\n\n\nHotel · Restaurant in Alsfeld\n\n\n\n\n\n\nAdresseZiegenhainer Str. 2636304 Alsfeld \nTelefon: 06631 793830 \nEmail: info@zur-schmiede.de
URL:https://www.gih.de/veranstaltung/fortbildungsveranstaltung-des-gih-hessen-e-v-gebaeudeenergieberater-in-hessen-im-rahmen-der-%c2%84wissenswerkstatt%c2%93-als-praesenzveranstaltung-1-tag-gebaeudehuelle-technische-anforderungen/
LOCATION:36304 Alsfeld (Eudorf)\, Ziegenhainer Str. 26\, Hotel Zur Schmiede
CATEGORIES:veranstaltungen-bundesverband,veranstaltungen-hessen
END:VEVENT
BEGIN:VEVENT
DTSTART;TZID=Europe/Berlin:20260423T083000
DTEND;TZID=Europe/Berlin:20260423T155000
DTSTAMP:20260425T124946
CREATED:20260211T072204Z
LAST-MODIFIED:20260422T232201Z
UID:38581-1776933000-1776959400@www.gih.de
SUMMARY:Kooperationsveranstaltung: Fachforum Energie an der TH Rosenheim - Das Theater mit der Energieeffizienz oder Die (un-) endliche Geschichte der Energieeffizienz
DESCRIPTION:Diese Veranstaltung der Hochschule Rosenheim findet in Kooperation mit GIH Bayern e.V. statt. \nFachforum Energie an der TH Rosenheim – 23.04.2026 \nDas Anmeldeformular (eine Anmeldung ist erforderlich)\, die Einladung und die Agenda für diesen Tag folgen noch. \n\n\nFreigegebene Fortbildungspunkte Energieeffizienz-Expertenliste: \n  \n7 Unterrichtseinheiten Wohngebäude7 Unterrichtseinheiten Nichtwohngebäude7 Unterrichtseinheiten Energieaudit DIN 16247/Contracting (BAFA) \n  \n\nDa es sich hier um einen Kooperationsveranstaltung handelt\, ist allein der Veranstalter für eventuell eintretende Änderungen zuständig.\n\n PDF-Dokument
URL:https://www.gih.de/veranstaltung/kooperationsveranstaltung-fachforum-energie-an-der-th-rosenheim-das-theater-mit-der-energieeffizienz-oder-die-un-endliche-geschichte-der-energieeffizienz/
LOCATION:Hochschule Rosenheim\, Hochschulstraße 1\, 83024 Rosenheim
CATEGORIES:veranstaltungen-bayern
END:VEVENT
BEGIN:VEVENT
DTSTART;TZID=Europe/Berlin:20260422T190000
DTEND;TZID=Europe/Berlin:20260422T190000
DTSTAMP:20260425T124946
CREATED:20260227T094505Z
LAST-MODIFIED:20260421T235850Z
UID:40379-1776884400-1776884400@www.gih.de
SUMMARY:Stammtisch Rhein-Neckar freier Austausch
DESCRIPTION:Hallo zusammen\, \nWir treffen uns zum gemeinsamen Austausch im Rhein-Neckar Raum. \n \nWann: Mittwoch\, der 25.02.2026 ab 19:00 Uhr. \nWo: Gasthaus zum Löwen \nAdresse: Hauptstraße 139\, 69214 Eppelheim \n  \nWir freuen uns auf eine Vielzahl an Anmeldungen! \n\n\n\n\n 
URL:https://www.gih.de/veranstaltung/stammtisch-rhein-neckar-freier-austausch/
LOCATION:Gasthaus zum Goldenen Löwen\, Hauptstraße 139\, 69214 Eppelheim
CATEGORIES:veranstaltungen-baden-wuerttemberg,veranstaltungen-bundesverband
END:VEVENT
BEGIN:VEVENT
DTSTART;TZID=Europe/Berlin:20260422T170000
DTEND;TZID=Europe/Berlin:20260422T200000
DTSTAMP:20260425T124946
CREATED:20260223T222414Z
LAST-MODIFIED:20260421T232333Z
UID:40003-1776877200-1776888000@www.gih.de
SUMMARY:GIH Berlin-Brandenburg Stammtisch (Regio-Treff) Berlin
DESCRIPTION:Regiostammtisch\nzum Kennenlernen\, Netzwerken\, Gemeinsamkeiten entdecken – Unser Auftakt zum fachlichen Austausch. \nDie Teilnahme kostenfrei\, Verzehr und Getränke gehen auf eigene Rechnung.
URL:https://www.gih.de/veranstaltung/gih-berlin-brandenburg-stammtisch-regio-treff-berlin-2/
LOCATION:AMRIT Restaurant Berlin Mitte\, Oranienburger Straße 45\, 10117 Berlin-Mitte
CATEGORIES:veranstaltungen-berlin-brandenburg,veranstaltungen-bundesverband
END:VEVENT
BEGIN:VEVENT
DTSTART;TZID=Europe/Berlin:20260421T160000
DTEND;TZID=Europe/Berlin:20260421T173000
DTSTAMP:20260425T124946
CREATED:20260310T083147Z
LAST-MODIFIED:20260420T235555Z
UID:41591-1776787200-1776792600@www.gih.de
SUMMARY:Digitaler temperaturbasierter Hydraulischer Abgleich mit Blossom-ic
DESCRIPTION:1. Funktionsweise des temperaturbasierten hydraulischen Abgleichs nach Normentwurf DIN 94679 Teil 4 \n2. Merkmal des digitalen hydraulischen Abgleichs (digital hydraulic balance – dhb)  \n3. Zertifizierung dhb nach BEG – Checkliste  \n4. Vorteile dhb für Eigentümer und Nutzer von Bestandsgebäuden  \n5. Nutzen dhb für die Energieberatung \n Referenten: Robin Pomreinke\, Ahmet Karabulut\, blossom-ic intelligent controls AG | Dr.- Ing. Martin Donath\, ratiodomo Ing.-GmbH  \nWir weisen darauf hin\, dass das Online-Seminar aufgezeichnet werden kann. Mit der Anmeldung erklären Sie sich hiermit einverstanden. \nZur Anmeldung >> \nDie Veranstaltung ist für alle Teilnehmenden kostenfrei. \nFür dieses Seminar erhalten Sie bei vollständiger Teilnahme (mind. 80 % Teilnahmezeit) im Nachgang eine Teilnahmebescheinigung mit Unterrichtseinheiten für die Energieeffizienz-Expertenliste: Wohngebäude: 2\, Nichtwohngebäude: 2\, Energieaudit DIN 16247/Contracting: 2
URL:https://www.gih.de/veranstaltung/digitaler-temperaturbasierter-hydraulischer-abgleich-mit-blossom-ic/
LOCATION:Online über GoTo Webinar
CATEGORIES:veranstaltungen-bundesverband
END:VEVENT
BEGIN:VEVENT
DTSTART;TZID=Europe/Berlin:20260421T090000
DTEND;TZID=Europe/Berlin:20260421T110000
DTSTAMP:20260425T124946
CREATED:20260303T082045Z
LAST-MODIFIED:20260303T122050Z
UID:40902-1776762000-1776769200@www.gih.de
SUMMARY:Einladung zum Meisterfrühstück bei der SHK-Innung Köln
DESCRIPTION:Wir sind von der Innung eingeladen worden\, am Meisterfrühstück der Innung (SHK) teilzunehmen. \nDies ist der 2. Termin\, bei dem wir nun auch weitere GIH-Mitglieder aus dem „Innungsbereich“ der Innung Köln ansprechen wollen. \nDatum 21.04.2026 \nBeginn: 09:00 Uhr \nEnde: 11:00 Uhr \n(Uhrzeit kann sich noch geringfügig ändern) \n\nFreier Austausch\nNetzwerk ausbauen\nHemnisse abbauen\nFortbildungsveranstaltungen planen\n\nVeranstaltungsort: \nInnung Sanitär-Heizung-Klima \nRolshovener Straße 115 \n51105 Köln \n  \n  \n  \n  \n 
URL:https://www.gih.de/veranstaltung/einladung-zum-meisterfruehstueck-bei-der-shk-innung-koeln/
LOCATION:Innung Sanitär-Heizung-Klima Köln Rolshover Straße 115 51105 Köln
CATEGORIES:veranstaltungen-bundesverband,veranstaltungen-nordrhein-westfalen
END:VEVENT
END:VCALENDAR