BEGIN:VCALENDAR
VERSION:2.0
PRODID:-//GIH Bundesverband - ECPv6.15.20//NONSGML v1.0//EN
CALSCALE:GREGORIAN
METHOD:PUBLISH
X-ORIGINAL-URL:https://www.gih.de
X-WR-CALDESC:Veranstaltungen für GIH Bundesverband
REFRESH-INTERVAL;VALUE=DURATION:PT1H
X-Robots-Tag:noindex
X-PUBLISHED-TTL:PT1H
BEGIN:VTIMEZONE
TZID:Europe/Berlin
BEGIN:DAYLIGHT
TZOFFSETFROM:+0100
TZOFFSETTO:+0200
TZNAME:CEST
DTSTART:20250330T010000
END:DAYLIGHT
BEGIN:STANDARD
TZOFFSETFROM:+0200
TZOFFSETTO:+0100
TZNAME:CET
DTSTART:20251026T010000
END:STANDARD
BEGIN:DAYLIGHT
TZOFFSETFROM:+0100
TZOFFSETTO:+0200
TZNAME:CEST
DTSTART:20260329T010000
END:DAYLIGHT
BEGIN:STANDARD
TZOFFSETFROM:+0200
TZOFFSETTO:+0100
TZNAME:CET
DTSTART:20261025T010000
END:STANDARD
BEGIN:DAYLIGHT
TZOFFSETFROM:+0100
TZOFFSETTO:+0200
TZNAME:CEST
DTSTART:20270328T010000
END:DAYLIGHT
BEGIN:STANDARD
TZOFFSETFROM:+0200
TZOFFSETTO:+0100
TZNAME:CET
DTSTART:20271031T010000
END:STANDARD
END:VTIMEZONE
BEGIN:VEVENT
DTSTART;TZID=Europe/Berlin:20260430T090000
DTEND;TZID=Europe/Berlin:20260430T163000
DTSTAMP:20260423T213158
CREATED:20260312T143246Z
LAST-MODIFIED:20260423T185849Z
UID:41635-1777539600-1777566600@www.gih.de
SUMMARY:Fortbildung "Fenstertausch von A bis Z  Planung\, Einbau\, Förderung" | Für Planer und Ausführende am 30. April 2026 in Aalen
DESCRIPTION:Die Fortbildung „Fenstertausch von A bis Z – Planung\, Einbau\, Förderung“ bietet eine umfassende Einführung in alle Aspekte des Fensteraustauschs\, mit besonderem Fokus auf aktuelle Fördermöglichkeiten\, baulichen Wärmeschutz\, Lüftungsverhalten und effektive Abdichtungslösungen. Es richtet sich sowohl an Planer als auch an Ausführende\, die mit der Planung\, Ausschreibung und Umsetzung von der Maßnahme betraut sind. Die Teilnehmer erhalten praxisorientierte Kenntnisse\, um Fensterprojekte energieeffizient und nachhaltig durchzuführen und gesetzliche Anforderungen zu erfüllen. \nZielgruppe: \n\nArchitekten\, Ingenieure und Planer\nHandwerker\, Fensterbauer und Ausführende\nBauleiter und Projektmanager\nVerantwortliche für Sanierungsprojekte und Bauherren\n\nInhalte: \n\nAktuelle Fördersituation\n\nÜberblick über staatliche Förderprogramme für den Fensteraustausch (z. B. KfW\, BAFA)\nFördervoraussetzungen und Antragstellung\nWirtschaftlichkeit von Fensteraustauschprojekten durch Fördermittel\nKombination von Fördermaßnahmen für energetische Sanierungen\n\nBaulicher Wärmeschutz beim Fensteraustausch\n\nAnforderungen an Fenster im Kontext der EnEV (Energieeinsparverordnung) und der GEG (Gebäudeenergiegesetz)\nAuswahl von Fensterarten und -materialien für optimalen Wärmeschutz\nEinfluss des Fensteraustauschs auf den Gesamt-Wärmeschutz des Gebäudes\nPlanung und Berechnung von U-Werten und Dämmstärken\n\nVerändertes Lüftungsverhalten und Infiltration der Gebäudehülle\n\nAuswirkungen eines Fensteraustauschs auf das Lüftungsverhalten und die Luftdichtheit\nGefahren der Infiltration und deren Einfluss auf den Wärme- und Feuchteschutz\nMaßnahmen zur Vermeidung von Schimmelbildung und Feuchteschäden\nNotwendigkeit der Luftdichtheit und Möglichkeiten der Luftstrommessung\n\nLüftungsmaßnahmen im Kontext des Fensteraustauschs\n\nIntegration von Lüftungslösungen während des Fensteraustauschs (z. B. kontrollierte Wohnungslüftung)\nAnforderungen an Lüftungsanlagen und -systeme nach dem Fensteraustausch\nPlanung von bedarfsgerechter Lüftung zur Vermeidung von Feuchteschäden und Energieverlusten\nPraxisbeispiele für die Installation von Lüftungslösungen bei energetischen Sanierungen\n\nIndividueller Sanierungsfahrplan\n\nErstellung eines individuellen Sanierungsfahrplans (iSFP) für die energetische Sanierung von Bestandsgebäuden\nIntegration des Fensteraustauschs in den Gesamtplan der Sanierung\nPriorisierung von Maßnahmen: Wann sollte der Fensteraustausch erfolgen und in welcher Reihenfolge?\nKosten-Nutzen-Analyse und Fördermöglichkeiten im Rahmen des iSFP\n\nGeeignete Abdichtungslösungen und deren fachgerechte Anwendung\n\nAnforderungen an die Abdichtung beim Fensteraustausch (z. B. Fensteranschlüsse und Dichtungen)\nAuswahl von Abdichtmaterialien für unterschiedliche Montagebedingungen\nTechniken und Best Practices für die fachgerechte Abdichtung\nVermeidung von Wärmebrücken und Gewährleistung der Luftdichtheit\nKontrolle der Abdichtung und Prüfung auf Luft- und Schlagregendichtheit\n\n\nMethoden: \n\nPräsentation von Fachwissen und aktuellen Normen\nPraxisorientierte Beispiele und Fallstudien\nDiskussion von typischen Problemen und Lösungen im Fensteraustausch\nInteraktive Übungen zur Erstellung von Sanierungsfahrplänen und Auswahl von Abdichtungslösungen\nErfahrungsbericht von Fachleuten aus der Branche\n\n  \nTermin: Donnerstag\, 30.04.2026 von 9:00 – 16:30 Uhr \nOrt: ISO-Chemie Aalen\, Röntgenstraße 12\, 73431 Aalen \nReferenten: Dieter Bindel\, Dietmar Lust & Andreas Stein \n  \nFür die Verlängerung der Eintragung in der EEE-Liste werden folgende Fortbildungspunkte anerkannt: \nWohngebäude: 8Nichtwohngebäude: 8Energieaudit DIN 16247/Contracting: 8 \n  \nGebühren: \n350 Euro für Mitglieder GIH netto zzgl. MwSt. \n400 Euro für Nichtmitglieder netto zzgl. MwSt. \n  \nESF Plus Förderung:\nDas Ministerium für Finanzen und Wirtschaft in Baden-Württemberg unterstützt die Weiterbildung aus Mitteln des Europäischen Sozialfonds ESF-Fachkursförderung. Teilnehmende können folgende Zuschüsse erhalten: unter 55jährige 30%\, Teilnehmende ab 55 Jahren 70%.Bei Ihrer Anmeldung werden Sie durch einen Fragenkatalog\, der ermittelt\, ob Sie die Förderbedingungen erfüllen und somit förderfähig sind. Zwingende Voraussetzung ist\, dass entweder der Wohnsitz des Teilnehmenden in Baden-Württemberg ist oder der Sitz des Unternehmens\, bei dem der Teilnehmende beschäftigt ist\, sich in Baden-Württemberg befindet (Filialen zählen hier nicht\, es gilt der Hauptunternehmenssitz). Die genauen Bedingungen finden Sie hier. \n  \n\n\n\n\nGebühren \nnetto zzgl. MwSt. \n\n\nOhne ESF Plus Förderung      \n  \n\n\nMit ESF Plus Förderung 30%      \nbis 55 Jahre \n\n\nMit ESF Plus Förderung 70% \nab 55 Jahre \n\n\n\nMitglied:\n350\,00 €\n245\,00 €\n105\,00 €\n\n\nBegleitung des Mitglieds:     \n\n350\,00 € \n\n245\,00 €\n105\,00 €\n\n\nExterne Teilnehmende:\n400\,00 €\n280\,00 €\n120\,00 €\n\n\n\n 
URL:https://www.gih.de/veranstaltung/fortbildung-fenstertausch-von-a-bis-z-%c2%96-planung-einbau-foerderung-fuer-planer-und-ausfuehrende-am-30-april-2026-in-aalen/
LOCATION:ISO-Chemie Aalen\, Röntgenstraße 12\, 73431 Aalen
CATEGORIES:veranstaltungen-baden-wuerttemberg,veranstaltungen-bundesverband
END:VEVENT
BEGIN:VEVENT
DTSTART;TZID=Europe/Berlin:20260430T100000
DTEND;TZID=Europe/Berlin:20260430T163000
DTSTAMP:20260423T213158
CREATED:20260205T102203Z
LAST-MODIFIED:20260423T192150Z
UID:38072-1777543200-1777566600@www.gih.de
SUMMARY:Start in die Energieberatung - Wissenswertes für den Einstieg in die Selbständigkeit
DESCRIPTION:Wissenswertes für den Einstieg in die Selbständigkeit\nDer Nutzen im Überblick\nZiel des Seminars ist es\, Energieberater*innen auf den neuesten Stand zu bringen\, damit sie Förderanträge fachlich korrekt und effizient begleiten können. Die Teilnehmenden erhalten einen tiefen Einblick in gesetzliche Anforderungen\, praxisrelevante Anwendungen und Nachweisführung. \nWichtiger Hinweis: > Dieses Seminar ist keine Existenzgründer-Beratung  \nInhalte\n1. Einstieg in die Energieberatung – Was brauche ich alles?2. Software – Welche brauche ich & Welche passt zu mir?3. Versicherung – Welche brauche ich & Worauf muss ich achten?4. Stundensatz & Preisfindung5. Kundenakquise6. Erstgespräch mit dem Kunden7. Angebot & Vertrag – Was muss rein?8. Vertragsbedingungen\, Widerrufserklärung etc.9. Berechnungen – Was ist die Richtige Herangehensweise an meine Projekte?10. Förderung – Wer stellt den Antrag etc.?11. Baubegleitung – Was ist muss und was ist Plus?12. Fragen & Antworten (FAQ) \nIhr Dozent\nAndreas KolbFachgebiet: Heizung• Heizungs- & Sanitärmeister • Gebäudeenergieberater WG /NWG • Fachkraft für Differenzdruckmesstechnik • Fachplaner für Lebenszyklusanalysen LCA  \nZielgruppe\nEnergieberater\, die gerade den Start in die Selbständigkeit planen \nZertifikate bei Teilnahme\nTeilnahmezertifikat \nOrganisatorisches & Arbeitsmittel\nSkript und Arbeitsunterlagen werden gestellt. \nUnterrichtsform\nOnline über die BBB-Plattform / Präsenz: nein \nHinweis zur dena-Anerkennung\nBeantragte Unterrichtseinheiten für die Eintragung bzw. Verlängerung des Eintrags in der Energie-Effizienz-Expertenliste für Förderprogramme des Bundes für die Veranstaltung (ohne Gewähr): \n\n\nWohngebäude (WG): 6 Unterrichtseinheiten \n\n\nNichtwohngebäude (NWG): 6 Unterrichtseinheiten \n\n\nEnergieaudit DIN 16247/Contracting (BAFA): 0 Unterrichtseinheiten \n\n\nZur Verlängerung des Listeneintrages müssen alle drei Jahre insgesamt 24 Unterrichtseinheiten nachgewiesen werden. Weitere Informationen finden Sie hier.
URL:https://www.gih.de/veranstaltung/start-in-die-energieberatung-wissenswertes-fuer-den-einstieg-in-die-selbstaendigkeit-3/
LOCATION:Online-Seminar
CATEGORIES:veranstaltungen-bayern,veranstaltungen-bundesverband
END:VEVENT
BEGIN:VEVENT
DTSTART;TZID=Europe/Berlin:20260430T183000
DTEND;TZID=Europe/Berlin:20260430T220000
DTSTAMP:20260423T213158
CREATED:20250723T093232Z
LAST-MODIFIED:20260423T185849Z
UID:8341-1777573800-1777586400@www.gih.de
SUMMARY:PRÄSENZ Stammtisch Stuttgart- "Peer-Austausch"
DESCRIPTION:Hallo zusammen\, \n  \nWir haben unsere Stammtisch-Leiter Gruppe\, zusätzlich zu Sven Hartmann\, um Anette Kübler erweitern können\,worüber wir uns sehr freuen\, Sie wird auch diesen Stammtisch leiten. \n  \nWo: Gaststätte des Polizeisportverein in Bad-Cannstatt am Stadion (Parkplätze befinden sich links neben dem Gebäude; S- und U-Bahn Neckarstadion) \nAdresse: Fritz-Walter-Weg 1070372 Stuttgart \nWer möchte kann zwischen 18:30 und 19:30 Uhr gerne noch etwas essen. \n  \n Diesesmal haben wir keinen Vortrag sondern möchten von euch wissen\, welche Fragen\, Bedenken\, Wünsche und Ängste Ihr von euren Kunden seit Jahresanfang wahrnehmt. \nEvtl. können wir mit euren Rückmeldungen ein Hand Out erstellen wie Ihr mit manchen Situationen\, Aussagen etc. umgehen könnt. \n  \nWir freuen uns wieder auf zahlreiche Gesichter.
URL:https://www.gih.de/veranstaltung/praesenz-stammtisch-stuttgart-zum-thema-9/
LOCATION:Fritz-Walter-Weg 10\, 70372 Stuttgart
CATEGORIES:veranstaltungen-baden-wuerttemberg
END:VEVENT
BEGIN:VEVENT
DTSTART;TZID=Europe/Berlin:20260430T190000
DTEND;TZID=Europe/Berlin:20260430T190000
DTSTAMP:20260423T213158
CREATED:20260126T085058Z
LAST-MODIFIED:20260423T185849Z
UID:36809-1777575600-1777575600@www.gih.de
SUMMARY:PRÄSENZ Stammtisch Sigmaringen zum Thema  Freier Austausch + Planung gemeinsamer Workshop
DESCRIPTION:Hallo zusammen\, \nWir treffen uns wieder zum Sigmaringer Stammtisch. \n  \nWann: ab 19:00 Uhr. \nWo: Restaurant Lamm \nAdresse: Hauptstr. 131\, 88512 Mengen \n  \nWir freuen uns auf eine Vielzahl an Anmeldungen!
URL:https://www.gih.de/veranstaltung/praesenz-stammtisch-sigmaringen-zum-thema-2/
LOCATION:Restaurant Lamm\, Hauptstra. 131\, 88512 Mengen
CATEGORIES:veranstaltungen-baden-wuerttemberg
END:VEVENT
END:VCALENDAR