BEGIN:VCALENDAR
VERSION:2.0
PRODID:-//GIH Sachsen - ECPv6.11.2//NONSGML v1.0//EN
CALSCALE:GREGORIAN
METHOD:PUBLISH
X-ORIGINAL-URL:https://www.gih.de/sachsen
X-WR-CALDESC:Veranstaltungen für GIH Sachsen
REFRESH-INTERVAL;VALUE=DURATION:PT1H
X-Robots-Tag:noindex
X-PUBLISHED-TTL:PT1H
BEGIN:VTIMEZONE
TZID:Europe/Berlin
BEGIN:DAYLIGHT
TZOFFSETFROM:+0100
TZOFFSETTO:+0200
TZNAME:CEST
DTSTART:20260329T010000
END:DAYLIGHT
BEGIN:STANDARD
TZOFFSETFROM:+0200
TZOFFSETTO:+0100
TZNAME:CET
DTSTART:20261025T010000
END:STANDARD
END:VTIMEZONE
BEGIN:VEVENT
DTSTART;TZID=Europe/Berlin:20260427T170000
DTEND;TZID=Europe/Berlin:20260427T190000
DTSTAMP:20260421T173242
CREATED:20260225T101906Z
LAST-MODIFIED:20260421T151103Z
UID:4362-1777309200-1777316400@www.gih.de
SUMMARY:GIH Sachsen e.V. - Onlinestammtisch
DESCRIPTION:Liebe Vereinsmitglieder\, \nwir laden Euch zum digitalen Stammtisch an jedem letzten Montag im Monat ein. \nEingeladen sind alle sächsischen Vereinsmitglieder die Interesse am Autausch haben. \nFür Essen und Getränke ist jeder ganz eigenverantwortlich zuständig. \nGIH-Sachsen OnlinestammtischMontag17:00 – 19:00 (WET) \nBesprechungslink: GIH-Sachsen Onlinestammtisch | Microsoft Teams | Teilnahme an Treffen\n \n\nDer Ablauf ist wie folgt angedacht:\n \n1. kurze Info vom GIH-Sachsen Vorstand zum Verein in Sachsen und Bundesverband\n2. Vorstellung Teilnehmer durch die Teilnehmer selbst3. Rückmeldung und aktuelle Wünsche der Teilnehmer an den GIH(Sachsen und Bundesverband) aufnehmen\n4. Aufnahme bestimmer Themenwünsche(z.B. konkrete Projektprobleme) der Teilnehmer und direkte Klärung im Anschluss 5. Freies Plaudern oder fachsimpeln zu einem oder mehrere Fachthemen wie (Wärmebrücken/ Gebäudesimulation/ spezielle Förderrichtlinien/…)\n \nWir freuen uns auf einen freundlichen und spannenden Austausch!
URL:https://www.gih.de/sachsen/veranstaltung/onlinestammtisch/
LOCATION:https://teams.live.com/meet/9336525616304?p=3lWd7eMqLeHNxAXxo0
CATEGORIES:veranstaltungen-sachsen
END:VEVENT
END:VCALENDAR