BEGIN:VCALENDAR
VERSION:2.0
PRODID:-//GIH Sachsen - ECPv6.11.2//NONSGML v1.0//EN
CALSCALE:GREGORIAN
METHOD:PUBLISH
X-WR-CALNAME:GIH Sachsen
X-ORIGINAL-URL:https://www.gih.de/sachsen
X-WR-CALDESC:Veranstaltungen für GIH Sachsen
REFRESH-INTERVAL;VALUE=DURATION:PT1H
X-Robots-Tag:noindex
X-PUBLISHED-TTL:PT1H
BEGIN:VTIMEZONE
TZID:Europe/Berlin
BEGIN:DAYLIGHT
TZOFFSETFROM:+0100
TZOFFSETTO:+0200
TZNAME:CEST
DTSTART:20260329T010000
END:DAYLIGHT
BEGIN:STANDARD
TZOFFSETFROM:+0200
TZOFFSETTO:+0100
TZNAME:CET
DTSTART:20261025T010000
END:STANDARD
END:VTIMEZONE
BEGIN:VEVENT
DTSTART;TZID=Europe/Berlin:20260305T173000
DTEND;TZID=Europe/Berlin:20260305T203000
DTSTAMP:20260421T105223
CREATED:20251120T221055Z
LAST-MODIFIED:20260304T231409Z
UID:3561-1772731800-1772742600@www.gih.de
SUMMARY:Stammtisch - Präsenz in Dresden
DESCRIPTION:Infoblock zu den neuesten politischen Entwicklungen aus Berlin anschließend freier Austausch \nSelbstzahler \nVorverlegung\, da die Messe bereits 17:00 Uhr schließt.
URL:https://www.gih.de/sachsen/veranstaltung/stammtisch-praesenz-in-dresden/
LOCATION:Fischhaus Alberthafen\, Magdeburger Straße 58\, 01067 Dresden
CATEGORIES:veranstaltungen-sachsen
END:VEVENT
END:VCALENDAR