BEGIN:VCALENDAR
VERSION:2.0
PRODID:-//GIH Nordrhein-Westfalen - ECPv6.11.2//NONSGML v1.0//EN
CALSCALE:GREGORIAN
METHOD:PUBLISH
X-ORIGINAL-URL:https://www.gih.de/nrw
X-WR-CALDESC:Veranstaltungen für GIH Nordrhein-Westfalen
REFRESH-INTERVAL;VALUE=DURATION:PT1H
X-Robots-Tag:noindex
X-PUBLISHED-TTL:PT1H
BEGIN:VTIMEZONE
TZID:Europe/Berlin
BEGIN:DAYLIGHT
TZOFFSETFROM:+0100
TZOFFSETTO:+0200
TZNAME:CEST
DTSTART:20260329T010000
END:DAYLIGHT
BEGIN:STANDARD
TZOFFSETFROM:+0200
TZOFFSETTO:+0100
TZNAME:CET
DTSTART:20261025T010000
END:STANDARD
END:VTIMEZONE
BEGIN:VEVENT
DTSTART;TZID=Europe/Berlin:20260521T100000
DTEND;TZID=Europe/Berlin:20260521T160000
DTSTAMP:20260421T183653
CREATED:20260325T170503Z
LAST-MODIFIED:20260421T160320Z
UID:5063-1779357600-1779379200@www.gih.de
SUMMARY:"Einstieg in die Energieberatung" VORANKÜNDIGUNG
DESCRIPTION:DETAILS FOLGEN
URL:https://www.gih.de/nrw/veranstaltung/einstieg-in-die-energieberatung-vorankuendigung/
LOCATION:Webinar " GoToMeeting"
CATEGORIES:veranstaltungen-nordrhein-westfalen
END:VEVENT
BEGIN:VEVENT
DTSTART;TZID=Europe/Berlin:20260611T190000
DTEND;TZID=Europe/Berlin:20260611T210000
DTSTAMP:20260421T183653
CREATED:20260417T080550Z
LAST-MODIFIED:20260421T160321Z
UID:6193-1781204400-1781211600@www.gih.de
SUMMARY:Stammtisch (Regio-Treff) Aachen
DESCRIPTION:Stammtisch (Regio-Treff) in Aachen \nam 11.06.2026 \nvon 19:00-21:00 Uhr \nNetzwerken / Informieren / Austausch mit Kollegen*innen aus der Region \n-Zusätzliche Inhalte werden kurzfristig mitgeteilt \nVeranstaltungsort. \nExil Aachen \nSchlossstraße 2 \n52066 Achen \n  \n0241/512345 \nwww.aachen-exil.de \nKontakt: \nDr. Ing. Heike Kempf \n0171/9304602 \ninfo@heike-kempf.de
URL:https://www.gih.de/nrw/veranstaltung/r/
LOCATION:Exil Aachen. Schlossstraße 2\, 52066 Aachen
CATEGORIES:veranstaltungen-nordrhein-westfalen
END:VEVENT
BEGIN:VEVENT
DTSTART;TZID=Europe/Berlin:20260611T190000
DTEND;TZID=Europe/Berlin:20260611T210000
DTSTAMP:20260421T183653
CREATED:20260417T090325Z
LAST-MODIFIED:20260421T160320Z
UID:6196-1781204400-1781211600@www.gih.de
SUMMARY:GIH NRW Stammtisch (Regio  Treff)      Aachen    am    11. Juni 2026 19.00  21.00 Uhr
DESCRIPTION:Liebe Mitglieder des GIH und Interessenten\, \nHiermit Laden wir zu Stammtisch Regio Treff in Achen ein. \n Thema:  Netzwerken\, fachlicher Austausch usw.               Teilnahme kostenfrei\, Verzehr und Getränke gehen auf eigene Rechnung \nLG Arnold Kath 
URL:https://www.gih.de/nrw/veranstaltung/gih-nrw-stammtisch-regio-%c2%96-treff-aachen-am-11-juni-2026-19-00-%c2%96-21-00-uhr/
LOCATION:Exil Aachen. Schlossstraße 2\, 52066 Aachen
CATEGORIES:veranstaltungen-nordrhein-westfalen
END:VEVENT
BEGIN:VEVENT
DTSTART;TZID=Europe/Berlin:20260612T090000
DTEND;TZID=Europe/Berlin:20260612T123000
DTSTAMP:20260421T183653
CREATED:20260217T200351Z
LAST-MODIFIED:20260421T160321Z
UID:4411-1781254800-1781267400@www.gih.de
SUMMARY:Vertrags- und Projektpraxis Energieberatung - Modul 1 Rechtliche Grundlagen bei Energieberatung
DESCRIPTION:Vertrags- und Projektpraxis EnergieberatungModul 1 Rechtliche Grundlagen bei Energieberatung \nKursinhalt/-ziel \nModul 1 stellt zunächst „typische“ Vertragsinhalte vor und zieht die hierfür wesentlichen Regelungen des Bauvertragsrechts „vor die Klammer“. Insoweit verknüpft dieses Modul die Vermittlung bauvertraglicher Grundlagenkenntnisse mit den u.g. Vertragsinhalten. Inhalte im Einzelnen sind: \n\nVerträge verstehen – Aufbau\, Inhalt\, Struktur des Vertragsmusters Energieberatung\nGrundlagen Bauvertragsrecht\nRechtliche Einordnung von Leistungen der Energieberatung und Fördermittelberatung\nRegelungsbedarfe bei Energieberatung/ energetischer Fachplanung im Überblick\nLeistungsinhalte und -ablauf bei Erstellung von Energiekonzepten\n\nElke Schmitz RechtsanwältinKanzlei Schmitz Marcusallee 1628359 Bremen   \nOnline-Seminar-Einwahl und dazugehörige Skripte – WICHTIG!! \nSie erhalten ein paar Tage vor dem Seminar die Zugangsdaten von GoTo Meeting per E-Mail zugesendet \nBitte prüfen Sie ggf. auch Ihren Spam-Ordner! \nWenn Sie sich erfolgreich bei  GoTo Meeting angemeldet haben\, können sie ab sofort hierüber direkt mit einem „Klick“ in alle von Ihnen gebuchten Seminare gehen. \nEs ist kein weiterer Einwahl-Link mehr nötig. \nDes Weiteren benötigen Sie lediglich einen Internet online Zugang\, PC und ein Head-Set oder Lautsprecher. \nSkripte und weitere Unterlagen\, die ggf. für diesen Kurs zur Verfügung gestellt werden in  per E-Mail im Nachgang zugesendet. \nSeminarkosten: \nGIH Mitglieder:         200\,00 € Brutto \nExterne Teilnehmer   275\,00 € Brutto \nZulassung und Anerkennung EnergieEffizienzExpertentenliste: \nUnterrichtseinheiten für die Verlängerung des Eintrags in der Energie-Effizienz-Expertenliste für Förderprogramme des Bundes für diese Veranstaltung werdeb bei der DENA beantragt: \nWir freuen uns über ihr Interesse und bedanken uns dafür. \nFalls sie nicht interessiert sind und keine Einladungen von uns wünschen\, teilen Sie uns das bitte kurz mit. Senden Sie dazu einfach eine E-Mail mit dem Betreff „Abmeldung Einladungen“ an abmeldung@gih.nrw
URL:https://www.gih.de/nrw/veranstaltung/vertrags-und-projektpraxis-energieberatung-modul-1-rechtliche-grundlagen-bei-energieberatung/
LOCATION:Online-Seminar
CATEGORIES:veranstaltungen-nordrhein-westfalen
END:VEVENT
BEGIN:VEVENT
DTSTART;TZID=Europe/Berlin:20260619T090000
DTEND;TZID=Europe/Berlin:20260619T123000
DTSTAMP:20260421T183653
CREATED:20260217T200351Z
LAST-MODIFIED:20260421T160321Z
UID:4412-1781859600-1781872200@www.gih.de
SUMMARY:Vertrags- und Projektpraxis Energieberatung - Modul 2 Wärmeschutzkonzept und die Besonderheiten bei energetischer Sanierung
DESCRIPTION:Vertrags- und Projektpraxis EnergieberatungModul 2 Rechtliche Grundlagen bei Energieberatung Wärmeschutzkonzept und die Besonderheiten bei energetischer Sanierung \nKursinhalt/-ziel \nModul 2 nimmt zum einen Leistungsinhalte sowie haftungsrelevante Aspekte rund um den winterlichen und sommerlichen Wärmeschutz in den Blick. Zum anderen stehen hier die besonderen Rechtsfragen bei energetischer Sanierung im Mittelpunkt: Risiken der Bestandserkundung\, die Frage\, welcher Standard vertragsrechtlich beim Bauen im Bestand geschuldet ist sowie schließlich die häufig bei Planung/ Ausführung von WDVS streitanfälligen Themen. Inhalte sind: \n\nWärmeschutzkonzept: Leistungsinhalte und Vertragspflichten im Planungsablauf\nSommerlicher Wärmeschutz – haftungsrelevante Aspekte und Vertragspflichten\nBestandsanalyse – Umgang mit Risiken\nTechnische Standards beim Bauen im Bestand\nStreitfall WDVS\n\nReferentin: \nElke Schmitz RechtsanwältinKanzlei Schmitz Marcusallee 1628359 Bremen   \nOnline-Seminar-Einwahl und dazugehörige Skripte – WICHTIG!! \nSie erhalten ein paar Tage vor dem Seminar die Zugangsdaten von GoTo Meeting per E-Mail zugesendet \nBitte prüfen Sie ggf. auch Ihren Spam-Ordner! \nWenn Sie sich erfolgreich bei  GoTo Meeting angemeldet haben\, können sie ab sofort hierüber direkt mit einem „Klick“ in alle von Ihnen gebuchten Seminare gehen. \nEs ist kein weiterer Einwahl-Link mehr nötig. \nDes Weiteren benötigen Sie lediglich einen Internet online Zugang\, PC und ein Head-Set oder Lautsprecher. \nSkripte und weitere Unterlagen\, die ggf. für diesen Kurs zur Verfügung gestellt werden in  per E-Mail im Nachgang zugesendet. \nSeminarkosten: \nGIH Mitglieder:         200\,00 € Brutto \nExterne Teilnehmer   275\,00 € Brutto \nZulassung und Anerkennung EnergieEffizienzExpertentenliste: \nUnterrichtseinheiten für die Verlängerung des Eintrags in der Energie-Effizienz-Expertenliste für Förderprogramme des Bundes für diese Veranstaltung werdeb bei der DENA beantragt: \nWir freuen uns über ihr Interesse und bedanken uns dafür. \nFalls sie nicht interessiert sind und keine Einladungen von uns wünschen\, teilen Sie uns das bitte kurz mit. Senden Sie dazu einfach eine E-Mail mit dem Betreff „Abmeldung Einladungen“ an abmeldung@gih.nrw
URL:https://www.gih.de/nrw/veranstaltung/vertrags-und-projektpraxis-energieberatung-modul-2-waermeschutzkonzept-und-die-besonderheiten-bei-energetischer-sanierung/
LOCATION:Online-Seminar
CATEGORIES:veranstaltungen-nordrhein-westfalen
END:VEVENT
BEGIN:VEVENT
DTSTART;TZID=Europe/Berlin:20260703T090000
DTEND;TZID=Europe/Berlin:20260703T123000
DTSTAMP:20260421T183653
CREATED:20260217T200351Z
LAST-MODIFIED:20260421T160321Z
UID:4413-1783069200-1783081800@www.gih.de
SUMMARY:Vertrags- und Projektpraxis Energieberatung - Modul 3 Dichtheitskonzept  Schnittstellenrisiken  Gesamtschuld
DESCRIPTION:Vertrags- und Projektpraxis EnergieberatungModul 3 Dichtheitskonzept – Schnittstellenrisiken – Gesamtschuld  \nKursinhalt/-ziel \nModul 3 widmet sich der Luftdichtheitsebene als „Schnittstellengewerk“. Es verbindet Rechtsfragen bei Erstellung von „Dichtheitskonzepten“ mit einem Fokus auf das Thema der gesamtschuldnerischen Haftungsrisiken: denn diese stellen sich als Kehrseite der im Projektablauf anzutreffenden Schnittstellenrisiken dar. Themen sind:  \n\n„Erfolgshaftung“ bei Erstellung von Luftdichtheitskonzepten\nVertragsrechtliche Bedeutung von DDM (-Messwerten) und Folgen für die Vertragspraxis\nDichtheitskonzept: Leistungsinhalte im Planungsablauf – Vertragspflichten – Dokumentation\nSchnittstellen und gesamtschuldnerische Haftungsrisken bei Erstellung von Dichtheitskonzepten\n\nReferentin: \nElke Schmitz RechtsanwältinKanzlei Schmitz Marcusallee 1628359 Bremen   \nOnline-Seminar-Einwahl und dazugehörige Skripte – WICHTIG!! \nSie erhalten ein paar Tage vor dem Seminar die Zugangsdaten von GoTo Meeting per E-Mail zugesendet \nBitte prüfen Sie ggf. auch Ihren Spam-Ordner! \nWenn Sie sich erfolgreich bei GoTo Meetingangemeldet haben\, können sie ab sofort hierüber direkt mit einem „Klick“ in alle von Ihnen gebuchten Seminare gehen. \nEs ist kein weiterer Einwahl-Link mehr nötig. \nDes Weiteren benötigen Sie lediglich einen Internet online Zugang\, PC und ein Head-Set oder Lautsprecher. \nSkripte und weitere Unterlagen\, die ggf. für diesen Kurs zur Verfügung gestellt werden in  per E-Mail im Nachgang zugesendet. \nSeminarkosten: \nGIH Mitglieder:         200\,00 € Brutto \nExterne Teilnehmer   275\,00 € Brutto \nZulassung und Anerkennung EnergieEffizienzExpertentenliste: \nUnterrichtseinheiten für die Verlängerung des Eintrags in der Energie-Effizienz-Expertenliste für Förderprogramme des Bundes für diese Veranstaltung werden bei der DENA beantragt: \n  \nWir freuen uns über ihr Interesse und bedanken uns dafür. \n  \nFalls sie nicht interessiert sind und keine Einladungen von uns wünschen\, teilen Sie uns das bitte kurz mit. Senden Sie dazu einfach eine E-Mail mit dem Betreff „Abmeldung Einladungen“ an abmeldung@gih.nrw
URL:https://www.gih.de/nrw/veranstaltung/vertrags-und-projektpraxis-energieberatung-modul-3-dichtheitskonzept-%c2%96-schnittstellenrisiken-%c2%96-gesamtschuld/
LOCATION:Online-Seminar
CATEGORIES:veranstaltungen-nordrhein-westfalen
END:VEVENT
BEGIN:VEVENT
DTSTART;TZID=Europe/Berlin:20260710T090000
DTEND;TZID=Europe/Berlin:20260710T123000
DTSTAMP:20260421T183653
CREATED:20260217T200351Z
LAST-MODIFIED:20260421T160321Z
UID:4414-1783674000-1783686600@www.gih.de
SUMMARY:Vertrags- und Projektpraxis Energieberatung - Modul 4 Lüftungskonzept und Schimmel im  Bau- und Mietrecht
DESCRIPTION:Vertrags- und Projektpraxis EnergieberatungModul 4 Lüftungskonzept und Schimmel im Bau- und Mietrecht \nKursinhalt/-ziel \nModul 4 behandelt haftungsrelevante Aspekte und resultierende Vertragspflichten bei Erstellung von Lüftungskonzepten. Entsprechend den Inhalten der von der Referentin mitverfassten Studie „Lüften im Wohnungsbau“[link https://www.dabonline.de/wp-content/uploads/2021/05/Studie_Lueftung-17-05-2021.pdf ] werden haftungsrelevante Aspekte\, Vertragspflichten sowie etwaige Regelungsbedarfe vor dem Hintergrund aktueller Regelwerksentwicklungen aufgezeigt. Ergänzt wird die bauvertragliche Perspektive durch praxisbedeutsame Rechtsfragen bei Mangelbeurteilung im Mietrechtsverhältnis. Das Modul beinhaltet folgende Themen: \n\nWohnungslüftung im Bauordnungsrecht und resultierende Vertragspflichten\nInhalt der „Erfolgshaftung“ bei Erstellung von Lüftungskonzepten\nLeistungsinhalte und Schnittstellen im Planungsablauf – Folgen für Vertragspraxi\nAktuelle Regelwerksentwicklungen und aRdT – was tun bei „ungewissen Rechtsstatus“ TR/ DIN?\nLüftung und Schimmel im Mietrecht – Welches Nutzerverhalten ist „rechtlich zumutbar“?\n\nElke Schmitz RechtsanwältinKanzlei Schmitz Marcusallee 1628359 Bremen   \nOnline-Seminar-Einwahl und dazugehörige Skripte – WICHTIG!! \nSie erhalten ein paar Tage vor dem Seminar die Zugangsdaten von GoTo Meeting per E-Mail zugesendet \nBitte prüfen Sie ggf. auch Ihren Spam-Ordner! \nWenn Sie sich erfolgreich bei GoTo Meetingangemeldet haben\, können sie ab sofort hierüber direkt mit einem „Klick“ in alle von Ihnen gebuchten Seminare gehen. \nEs ist kein weiterer Einwahl-Link mehr nötig. \nDes Weiteren benötigen Sie lediglich einen Internet online Zugang\, PC und ein Head-Set oder Lautsprecher. \nSkripte und weitere Unterlagen\, die ggf. für diesen Kurs zur Verfügung gestellt werden in  per E-Mail im Nachgang zugesendet. \nSeminarkosten: \nGIH Mitglieder:         200\,00 € Brutto \nExterne Teilnehmer   275\,00 € Brutto \nZulassung und Anerkennung EnergieEffizienzExpertentenliste: \nUnterrichtseinheiten für die Verlängerung des Eintrags in der Energie-Effizienz-Expertenliste für Förderprogramme des Bundes für diese Veranstaltung werden bei der DENA beantragt: \n  \nWir freuen uns über ihr Interesse und bedanken uns dafür. \n  \nFalls sie nicht interessiert sind und keine Einladungen von uns wünschen\, teilen Sie uns das bitte kurz mit. Senden Sie dazu einfach eine E-Mail mit dem Betreff „Abmeldung Einladungen“ an abmeldung@gih.nrw
URL:https://www.gih.de/nrw/veranstaltung/vertrags-und-projektpraxis-energieberatung-modul-4-lueftungskonzept-und-schimmel-im-bau-und-mietrecht/
LOCATION:Online-Seminar
CATEGORIES:veranstaltungen-nordrhein-westfalen
END:VEVENT
BEGIN:VEVENT
DTSTART;TZID=Europe/Berlin:20260716T100000
DTEND;TZID=Europe/Berlin:20260716T160000
DTSTAMP:20260421T183653
CREATED:20260325T170504Z
LAST-MODIFIED:20260421T160321Z
UID:5064-1784196000-1784217600@www.gih.de
SUMMARY:"Einstieg in die Energieberatung" VORANKÜNDIGUNG
DESCRIPTION:DETAILS FOLGEN
URL:https://www.gih.de/nrw/veranstaltung/einstieg-in-die-energieberatung-vorankuendigung-2/
LOCATION:Webinar " GoToMeeting"
CATEGORIES:veranstaltungen-nordrhein-westfalen
END:VEVENT
BEGIN:VEVENT
DTSTART;TZID=Europe/Berlin:20260717T090000
DTEND;TZID=Europe/Berlin:20260717T123000
DTSTAMP:20260421T183653
CREATED:20260217T200351Z
LAST-MODIFIED:20260421T160321Z
UID:4415-1784278800-1784291400@www.gih.de
SUMMARY:Vertrags- und Projektpraxis Energieberatung - Modul 5 KfW (BEG)-Baubegleitung Stichprobenkontrollen - Dokumentation  Abnahme
DESCRIPTION:Vertrags- und Projektpraxis EnergieberatungModul 5 KfW (BEG)-Baubegleitung Stichprobenkontrollen – Dokumentation – Abnahme  \nKursinhalt/-ziel \nModul 5 konzentriert sich auf Haftungsrisiken bei Stichprobenkontrollen. Im Fokus steht hier die Abgrenzung der „Bauausführungs- und Ergebniskontrolle“ gegenüber der Objektüberwachung. Des Weiteren werden in diesem Modul Einzelaspekte rund um das Thema Abnahme und Dokumentation dargestellt. Folgende Inhalte finden sich hier:  \n\nInhalt der „Erfolgshaftung“ bei Stichprobenkontrollen – rechtliche Einordnung\nVertragspraxis: Regelungsbedarf Stichprobenkontrollen\nEnergieberatung – Objektüberwachung – gesamtschuldnerische Haftungsrisiken – Schnittstellenabgrenzung\nAbnahme und Mängelrechte\nDokumentation – Beweissicherung im Projektablauf\n\nReferentin: \nElke Schmitz RechtsanwältinKanzlei Schmitz Marcusallee 1628359 Bremen   \nOnline-Seminar-Einwahl und dazugehörige Skripte – WICHTIG!! \nSie erhalten ein paar Tage vor dem Seminar die Zugangsdaten von GoTo Meeting per E-Mail zugesendet \nBitte prüfen Sie ggf. auch Ihren Spam-Ordner! \nWenn Sie sich erfolgreich bei GoTo Meetingangemeldet haben\, können sie ab sofort hierüber direkt mit einem „Klick“ in alle von Ihnen gebuchten Seminare gehen. \nEs ist kein weiterer Einwahl-Link mehr nötig. \nDes Weiteren benötigen Sie lediglich einen Internet online Zugang\, PC und ein Head-Set oder Lautsprecher. \nSkripte und weitere Unterlagen\, die ggf. für diesen Kurs zur Verfügung gestellt werden in  per E-Mail im Nachgang zugesendet. \nSeminarkosten: \nGIH Mitglieder:         200\,00 € Brutto \nExterne Teilnehmer   275\,00 € Brutto \nZulassung und Anerkennung EnergieEffizienzExpertentenliste: \nUnterrichtseinheiten für die Verlängerung des Eintrags in der Energie-Effizienz-Expertenliste für Förderprogramme des Bundes für diese Veranstaltung werdeb bei der DENA beantragt: \n  \nWir freuen uns über ihr Interesse und bedanken uns dafür. \n  \nFalls sie nicht interessiert sind und keine Einladungen von uns wünschen\, teilen Sie uns das bitte kurz mit. Senden Sie dazu einfach eine E-Mail mit dem Betreff „Abmeldung Einladungen“ an abmeldung@gih.nrw
URL:https://www.gih.de/nrw/veranstaltung/vertrags-und-projektpraxis-energieberatung-modul-5-kfw-beg-baubegleitung-stichprobenkontrollen-dokumentation-%c2%96-abnahme/
LOCATION:Online-Seminar
CATEGORIES:veranstaltungen-nordrhein-westfalen
END:VEVENT
BEGIN:VEVENT
DTSTART;TZID=Europe/Berlin:20260729T180000
DTEND;TZID=Europe/Berlin:20260729T220000
DTSTAMP:20260421T183653
CREATED:20260202T120341Z
LAST-MODIFIED:20260421T160321Z
UID:4381-1785348000-1785362400@www.gih.de
SUMMARY:Stammtisch (Regio-Treff) in Köln
DESCRIPTION:Stammtisch (Regio-Treff) in Köln \nam 29.07.2026 \nvon 18:00-22:00 Uhr \nNetzwerken / Informieren / Austausch mit Kollegen*innen aus der Region \n-Zusätzliche Inhalte werden kurzfristig mitgeteilt \nVeranstaltungsort. \nHaxenhaus Köln \nFrankenwerft 19 \n50667 Köln \nwww.haxenhaus.de \n0221/2704990 \nKontakt: \nBernd Kohl \n0171/9548103
URL:https://www.gih.de/nrw/veranstaltung/stammtisch-regio-treff-in-koeln-2/
LOCATION:Haxenhaus Köln\, Frankenwerft 19\, 50667 Köln
CATEGORIES:veranstaltungen-nordrhein-westfalen
END:VEVENT
END:VCALENDAR