BEGIN:VCALENDAR
VERSION:2.0
PRODID:-//GIH Nord - ECPv6.11.2//NONSGML v1.0//EN
CALSCALE:GREGORIAN
METHOD:PUBLISH
X-WR-CALNAME:GIH Nord
X-ORIGINAL-URL:https://www.gih.de/nord
X-WR-CALDESC:Veranstaltungen für GIH Nord
REFRESH-INTERVAL;VALUE=DURATION:PT1H
X-Robots-Tag:noindex
X-PUBLISHED-TTL:PT1H
BEGIN:VTIMEZONE
TZID:Europe/Berlin
BEGIN:DAYLIGHT
TZOFFSETFROM:+0100
TZOFFSETTO:+0200
TZNAME:CEST
DTSTART:20260329T010000
END:DAYLIGHT
BEGIN:STANDARD
TZOFFSETFROM:+0200
TZOFFSETTO:+0100
TZNAME:CET
DTSTART:20261025T010000
END:STANDARD
END:VTIMEZONE
BEGIN:VEVENT
DTSTART;VALUE=DATE:20260424
DTEND;VALUE=DATE:20260426
DTSTAMP:20260420T161350
CREATED:20250515T135022Z
LAST-MODIFIED:20260420T140027Z
UID:937-1776988800-1777161599@www.gih.de
SUMMARY:Save the Date 28.Internationale Passivhaustagung
DESCRIPTION:Ausschreibung zur 28. Internationalen Passivhaustagung \nLiebe Passivhausbegeisterte\, \nwir laden Sie herzlich zur 28. Internationalen Passivhaustagung am 24. und 25. April 2026 ins Haus der Technik in Essen ein! Markieren Sie sich den Termin gerne schon im Kalender! \nUnter dem Motto „Mit Energie-Effizienz in die Transformation“ möchten wir auch diesmal wieder engagierte\, innovative Expert*innen aus der ganzen Welt zusammenbringen\, um gemeinsam weiter an unserem Ziel eines klimagerechten\, zukunftsfähigen Bausektors zu arbeiten. \nFreuen Sie sich auf: \n\n\nHochkarätige Vorträge führender Fachleute \n\n\nSpannende Gebäudebesichtigungen \n\n\nEine vielseitige Fachausstellung \n\n\nZahlreiche interaktive Workshops \n\n\nDer Call for Papers sowie die Ausstellungsanmeldung öffnen voraussichtlich im April 2025. \nWeitere Informationen finden Sie unter folgendem Link: Veranstaltungen 2025/2026 \n 
URL:https://www.gih.de/nord/veranstaltung/save-the-date-28-internationale-passivhaustagung/
CATEGORIES:veranstaltungen-bundesverband
END:VEVENT
BEGIN:VEVENT
DTSTART;TZID=Europe/Berlin:20260424T150000
DTEND;TZID=Europe/Berlin:20260424T153000
DTSTAMP:20260420T161350
CREATED:20250725T091304Z
LAST-MODIFIED:20250905T120307Z
UID:1391-1777042800-1777044600@www.gih.de
SUMMARY:Externe Veranstaltung: Energieberater:innen-Zirkel der Energielotsen
DESCRIPTION:https://www.hamburg.de/politik-und-verwaltung/behoerden/bukea/themen/energie/energielotsen/2021-energieberater-zirkel-291106
URL:https://www.gih.de/nord/veranstaltung/externe-veranstaltung-energieberaterinnen-zirkel-der-energielotsen-39/
LOCATION:Online
CATEGORIES:veranstaltungen-nord
END:VEVENT
BEGIN:VEVENT
DTSTART;TZID=Europe/Berlin:20260501T150000
DTEND;TZID=Europe/Berlin:20260501T153000
DTSTAMP:20260420T161350
CREATED:20250725T091304Z
LAST-MODIFIED:20250905T120307Z
UID:1392-1777647600-1777649400@www.gih.de
SUMMARY:Externe Veranstaltung: Energieberater:innen-Zirkel der Energielotsen
DESCRIPTION:https://www.hamburg.de/politik-und-verwaltung/behoerden/bukea/themen/energie/energielotsen/2021-energieberater-zirkel-291106
URL:https://www.gih.de/nord/veranstaltung/externe-veranstaltung-energieberaterinnen-zirkel-der-energielotsen-40/
LOCATION:Online
CATEGORIES:veranstaltungen-nord
END:VEVENT
BEGIN:VEVENT
DTSTART;TZID=Europe/Berlin:20260507T110000
DTEND;TZID=Europe/Berlin:20260507T235900
DTSTAMP:20260420T161350
CREATED:20251217T123139Z
LAST-MODIFIED:20260420T140036Z
UID:4049-1778151600-1778198340@www.gih.de
SUMMARY:GIH Bundeskongress - 25 Jahre GIH
DESCRIPTION:Am 7. Mai 2026 wird der GIH Bundesverband 25 Jahre alt – wir bringen die Branche dort zusammen\, wo Energiepolitik gestaltet wird: in Berlin. \nDer Bundeskongress 2026 steht ganz im Zeichen von Aufbruch\, Vernetzung und Zukunftsperspektiven für die Energieberatung. \nFreuen Sie sich auf praxisnahe Fachimpulse\, aktuelle Einblicke in Förderlandschaft und energetische Konzepte sowie eine hochkarätig besetzte Podiumsdiskussion mit Vertreter:innen aus Politik\, Wirtschaft und Verbänden. Der Kongress bietet Raum für intensiven Austausch zwischen Energieberatung\, Wirtschaft\, Wissenschaft und Politik – kompakt an einem Tag. \nAb 11:00 Uhr erwartet Sie im von Greifswald (Lilli-Henoch-Straße 10\, 10405 Berlin) ein vielseitiges Programm. Am Abend feiern wir das Jubiläum mit der „Energy Night“ – mit Musik\, gutem Essen und viel Gelegenheit zum Netzwerken bis 24:00 Uhr. \nMehr Infos zum Programm. \n  \n  \nGebühr:  \nGebühr für GIH-Mitglieder inklusive Getränke und Essen: 49 Euro zzgl. Mehrwertsteuer pro Person (Login in Verein Online erforderlich; bitte auf „ich habe eine Login-Kennung“ klicken). \nGebühr für externe Teilnehmer inklusive Getränke und Essen: 99 Euro zzgl. Mehrwertsteuer pro Person. \nAls Bezahlmöglichkeiten stehen Ihnen über den Bezahldienst PayPal die Bezahlung per PayPal Konto\, SEPA Lastschrift oder Kreditkarte zur Verfügung (ein PayPal-Konto ist nicht notwendig). Die Auswahlmöglichkeit folgt nach dem Klick auf „kostenpflichtige Bestellung und Bezahlung jetzt durchführen“. \n  \nFür dieses Veranstaltung erhalten Sie bei Teilnahme im Nachgang eine Teilnahmebescheinigung mit Unterrichtseinheiten für die Energieeffizienz-Expertenliste. Die genaue Anzahl wird noch bekannt gegeben.   \nVor Ort wird eine Unterschriftenliste ausgelegt. \n 
URL:https://www.gih.de/nord/veranstaltung/gih-bundeskongress-25-jahre-gih/
CATEGORIES:veranstaltungen-bundesverband
END:VEVENT
BEGIN:VEVENT
DTSTART;TZID=Europe/Berlin:20260508T150000
DTEND;TZID=Europe/Berlin:20260508T153000
DTSTAMP:20260420T161350
CREATED:20250725T091304Z
LAST-MODIFIED:20250905T120307Z
UID:1393-1778252400-1778254200@www.gih.de
SUMMARY:Externe Veranstaltung: Energieberater:innen-Zirkel der Energielotsen
DESCRIPTION:https://www.hamburg.de/politik-und-verwaltung/behoerden/bukea/themen/energie/energielotsen/2021-energieberater-zirkel-291106
URL:https://www.gih.de/nord/veranstaltung/externe-veranstaltung-energieberaterinnen-zirkel-der-energielotsen-41/
LOCATION:Online
CATEGORIES:veranstaltungen-nord
END:VEVENT
BEGIN:VEVENT
DTSTART;TZID=Europe/Berlin:20260515T150000
DTEND;TZID=Europe/Berlin:20260515T153000
DTSTAMP:20260420T161350
CREATED:20250725T091304Z
LAST-MODIFIED:20250905T120307Z
UID:1394-1778857200-1778859000@www.gih.de
SUMMARY:Externe Veranstaltung: Energieberater:innen-Zirkel der Energielotsen
DESCRIPTION:https://www.hamburg.de/politik-und-verwaltung/behoerden/bukea/themen/energie/energielotsen/2021-energieberater-zirkel-291106
URL:https://www.gih.de/nord/veranstaltung/externe-veranstaltung-energieberaterinnen-zirkel-der-energielotsen-42/
LOCATION:Online
CATEGORIES:veranstaltungen-nord
END:VEVENT
BEGIN:VEVENT
DTSTART;TZID=Europe/Berlin:20260522T150000
DTEND;TZID=Europe/Berlin:20260522T153000
DTSTAMP:20260420T161350
CREATED:20250725T091304Z
LAST-MODIFIED:20250905T120307Z
UID:1395-1779462000-1779463800@www.gih.de
SUMMARY:Externe Veranstaltung: Energieberater:innen-Zirkel der Energielotsen
DESCRIPTION:https://www.hamburg.de/politik-und-verwaltung/behoerden/bukea/themen/energie/energielotsen/2021-energieberater-zirkel-291106
URL:https://www.gih.de/nord/veranstaltung/externe-veranstaltung-energieberaterinnen-zirkel-der-energielotsen-43/
LOCATION:Online
CATEGORIES:veranstaltungen-nord
END:VEVENT
BEGIN:VEVENT
DTSTART;TZID=Europe/Berlin:20260528T100000
DTEND;TZID=Europe/Berlin:20260528T110000
DTSTAMP:20260420T161350
CREATED:20260402T130105Z
LAST-MODIFIED:20260420T135814Z
UID:7159-1779962400-1779966000@www.gih.de
SUMMARY:Austausch der GIH Nord Regionalgruppenleiter
DESCRIPTION:Update zum Stand der Regionalgruppentreffs. \n–> wenn möglich sollen bis zu diesem Termin die ersten remote Regionalgruppentreffs zum Kennenlernen stattgefunden haben. \n–> ebenso sollen Terminvorschläge für2026 pro Regionalgruppe feststehen. \n  \nLink zur Teilnahme: \nGIH Regionalgruppentreff \nteams.live.com \n \n 
URL:https://www.gih.de/nord/veranstaltung/austausch-der-gih-nord-regionalgruppenleiter/
LOCATION:NH Hamburg Horner Rennbahn\, Rennbahnstraße 90 in 22111 Hamburg
CATEGORIES:veranstaltungen-nord
END:VEVENT
BEGIN:VEVENT
DTSTART;TZID=Europe/Berlin:20260529T150000
DTEND;TZID=Europe/Berlin:20260529T153000
DTSTAMP:20260420T161350
CREATED:20250725T091304Z
LAST-MODIFIED:20250905T120307Z
UID:1396-1780066800-1780068600@www.gih.de
SUMMARY:Externe Veranstaltung: Energieberater:innen-Zirkel der Energielotsen
DESCRIPTION:https://www.hamburg.de/politik-und-verwaltung/behoerden/bukea/themen/energie/energielotsen/2021-energieberater-zirkel-291106
URL:https://www.gih.de/nord/veranstaltung/externe-veranstaltung-energieberaterinnen-zirkel-der-energielotsen-44/
LOCATION:Online
CATEGORIES:veranstaltungen-nord
END:VEVENT
BEGIN:VEVENT
DTSTART;TZID=Europe/Berlin:20260605T150000
DTEND;TZID=Europe/Berlin:20260605T153000
DTSTAMP:20260420T161350
CREATED:20250725T091305Z
LAST-MODIFIED:20250905T120307Z
UID:1397-1780671600-1780673400@www.gih.de
SUMMARY:Externe Veranstaltung: Energieberater:innen-Zirkel der Energielotsen
DESCRIPTION:https://www.hamburg.de/politik-und-verwaltung/behoerden/bukea/themen/energie/energielotsen/2021-energieberater-zirkel-291106
URL:https://www.gih.de/nord/veranstaltung/externe-veranstaltung-energieberaterinnen-zirkel-der-energielotsen-45/
LOCATION:Online
CATEGORIES:veranstaltungen-nord
END:VEVENT
BEGIN:VEVENT
DTSTART;TZID=Europe/Berlin:20260612T150000
DTEND;TZID=Europe/Berlin:20260612T153000
DTSTAMP:20260420T161350
CREATED:20250725T091305Z
LAST-MODIFIED:20250905T120307Z
UID:1398-1781276400-1781278200@www.gih.de
SUMMARY:Externe Veranstaltung: Energieberater:innen-Zirkel der Energielotsen
DESCRIPTION:https://www.hamburg.de/politik-und-verwaltung/behoerden/bukea/themen/energie/energielotsen/2021-energieberater-zirkel-291106
URL:https://www.gih.de/nord/veranstaltung/externe-veranstaltung-energieberaterinnen-zirkel-der-energielotsen-46/
LOCATION:Online
CATEGORIES:veranstaltungen-nord
END:VEVENT
BEGIN:VEVENT
DTSTART;TZID=Europe/Berlin:20260619T150000
DTEND;TZID=Europe/Berlin:20260619T153000
DTSTAMP:20260420T161350
CREATED:20250725T091305Z
LAST-MODIFIED:20250905T120307Z
UID:1399-1781881200-1781883000@www.gih.de
SUMMARY:Externe Veranstaltung: Energieberater:innen-Zirkel der Energielotsen
DESCRIPTION:https://www.hamburg.de/politik-und-verwaltung/behoerden/bukea/themen/energie/energielotsen/2021-energieberater-zirkel-291106
URL:https://www.gih.de/nord/veranstaltung/externe-veranstaltung-energieberaterinnen-zirkel-der-energielotsen-47/
LOCATION:Online
CATEGORIES:veranstaltungen-nord
END:VEVENT
BEGIN:VEVENT
DTSTART;TZID=Europe/Berlin:20260626T150000
DTEND;TZID=Europe/Berlin:20260626T153000
DTSTAMP:20260420T161351
CREATED:20250725T091305Z
LAST-MODIFIED:20250905T120308Z
UID:1400-1782486000-1782487800@www.gih.de
SUMMARY:Externe Veranstaltung: Energieberater:innen-Zirkel der Energielotsen
DESCRIPTION:https://www.hamburg.de/politik-und-verwaltung/behoerden/bukea/themen/energie/energielotsen/2021-energieberater-zirkel-291106
URL:https://www.gih.de/nord/veranstaltung/externe-veranstaltung-energieberaterinnen-zirkel-der-energielotsen-48/
LOCATION:Online
CATEGORIES:veranstaltungen-nord
END:VEVENT
BEGIN:VEVENT
DTSTART;TZID=Europe/Berlin:20260703T150000
DTEND;TZID=Europe/Berlin:20260703T153000
DTSTAMP:20260420T161351
CREATED:20250725T091305Z
LAST-MODIFIED:20250905T120308Z
UID:1401-1783090800-1783092600@www.gih.de
SUMMARY:Externe Veranstaltung: Energieberater:innen-Zirkel der Energielotsen
DESCRIPTION:https://www.hamburg.de/politik-und-verwaltung/behoerden/bukea/themen/energie/energielotsen/2021-energieberater-zirkel-291106
URL:https://www.gih.de/nord/veranstaltung/externe-veranstaltung-energieberaterinnen-zirkel-der-energielotsen-49/
LOCATION:Online
CATEGORIES:veranstaltungen-nord
END:VEVENT
BEGIN:VEVENT
DTSTART;TZID=Europe/Berlin:20260710T150000
DTEND;TZID=Europe/Berlin:20260710T153000
DTSTAMP:20260420T161351
CREATED:20250725T091305Z
LAST-MODIFIED:20250905T120308Z
UID:1402-1783695600-1783697400@www.gih.de
SUMMARY:Externe Veranstaltung: Energieberater:innen-Zirkel der Energielotsen
DESCRIPTION:https://www.hamburg.de/politik-und-verwaltung/behoerden/bukea/themen/energie/energielotsen/2021-energieberater-zirkel-291106
URL:https://www.gih.de/nord/veranstaltung/externe-veranstaltung-energieberaterinnen-zirkel-der-energielotsen-50/
LOCATION:Online
CATEGORIES:veranstaltungen-nord
END:VEVENT
END:VCALENDAR